BEGIN:VCALENDAR
VERSION:2.0
PRODID:-//Bagard - ECPv5.14.2.1//NONSGML v1.0//EN
CALSCALE:GREGORIAN
METHOD:PUBLISH
X-WR-CALNAME:Bagard
X-ORIGINAL-URL:https://www.bagard.fr
X-WR-CALDESC:Events for Bagard
REFRESH-INTERVAL;VALUE=DURATION:PT1H
X-Robots-Tag:noindex
X-PUBLISHED-TTL:PT1H
BEGIN:VTIMEZONE
TZID:UTC
BEGIN:STANDARD
TZOFFSETFROM:+0000
TZOFFSETTO:+0000
TZNAME:UTC
DTSTART:20240101T000000
END:STANDARD
END:VTIMEZONE
BEGIN:VEVENT
DTSTART;TZID=UTC:20240106T203000
DTEND;TZID=UTC:20240106T233000
DTSTAMP:20260424T094836
CREATED:20231207T103909Z
LAST-MODIFIED:20231226T071840Z
UID:6210-1704573000-1704583800@www.bagard.fr
SUMMARY:Loto de l'Association des fêtes
DESCRIPTION:Samedi 06 Janvier 2024 à 20 H 30 : LOTO de l’Association des Fêtes Bagardoise\n\nAu Foyer communal – 20€ la planche de 12 cartons.
URL:https://www.bagard.fr/evenement/loto-de-lassociation-des-fetes/
CATEGORIES:Chez nous
ATTACH;FMTTYPE=image/jpeg:https://www.bagard.fr/wp-content/uploads/2022/10/Loto-image-evenement-scaled.jpeg
END:VEVENT
BEGIN:VEVENT
DTSTART;TZID=UTC:20240111T080000
DTEND;TZID=UTC:20240111T170000
DTSTAMP:20260424T094836
CREATED:20231222T080035Z
LAST-MODIFIED:20231222T080035Z
UID:6251-1704960000-1704992400@www.bagard.fr
SUMMARY:Permanences espace numérique
DESCRIPTION:
URL:https://www.bagard.fr/evenement/permanences-espace-numerique/
CATEGORIES:Chez nous
ATTACH;FMTTYPE=image/png:https://www.bagard.fr/wp-content/uploads/2022/06/espace-numerique-public.png
END:VEVENT
BEGIN:VEVENT
DTSTART;TZID=UTC:20240113T203000
DTEND;TZID=UTC:20240113T233000
DTSTAMP:20260424T094836
CREATED:20231226T072201Z
LAST-MODIFIED:20240109T074610Z
UID:6259-1705177800-1705188600@www.bagard.fr
SUMMARY:Loto ASB
DESCRIPTION:Samedi 13 Janvier 2024 à 20 H 30 : LOTO de l’A.S. BAGARD\n\nAu Foyer Communal.
URL:https://www.bagard.fr/evenement/loto-asb/
CATEGORIES:Chez nous
ATTACH;FMTTYPE=image/jpeg:https://www.bagard.fr/wp-content/uploads/2022/10/Loto-image-evenement-scaled.jpeg
END:VEVENT
BEGIN:VEVENT
DTSTART;TZID=UTC:20240127T203000
DTEND;TZID=UTC:20240127T233000
DTSTAMP:20260424T094836
CREATED:20240118T094403Z
LAST-MODIFIED:20240118T104111Z
UID:6290-1706387400-1706398200@www.bagard.fr
SUMMARY:Loto de la Société de chasse
DESCRIPTION:
URL:https://www.bagard.fr/evenement/loto-de-la-societe-de-chasse/
CATEGORIES:Chez nous
ATTACH;FMTTYPE=image/jpeg:https://www.bagard.fr/wp-content/uploads/2022/10/Loto-image-evenement-scaled.jpeg
END:VEVENT
BEGIN:VEVENT
DTSTART;TZID=UTC:20240128T143000
DTEND;TZID=UTC:20240128T183000
DTSTAMP:20260424T094836
CREATED:20240118T094503Z
LAST-MODIFIED:20240118T094503Z
UID:6293-1706452200-1706466600@www.bagard.fr
SUMMARY:Loto PCF
DESCRIPTION:
URL:https://www.bagard.fr/evenement/loto-pcf/
CATEGORIES:Chez nous
ATTACH;FMTTYPE=image/jpeg:https://www.bagard.fr/wp-content/uploads/2022/10/Loto-image-evenement-scaled.jpeg
END:VEVENT
END:VCALENDAR