BEGIN:VCALENDAR
VERSION:2.0
PRODID:-//Bagard - ECPv5.14.2.1//NONSGML v1.0//EN
CALSCALE:GREGORIAN
METHOD:PUBLISH
X-WR-CALNAME:Bagard
X-ORIGINAL-URL:https://www.bagard.fr
X-WR-CALDESC:Events for Bagard
REFRESH-INTERVAL;VALUE=DURATION:PT1H
X-Robots-Tag:noindex
X-PUBLISHED-TTL:PT1H
BEGIN:VTIMEZONE
TZID:UTC
BEGIN:STANDARD
TZOFFSETFROM:+0000
TZOFFSETTO:+0000
TZNAME:UTC
DTSTART:20240101T000000
END:STANDARD
END:VTIMEZONE
BEGIN:VEVENT
DTSTART;TZID=UTC:20240203T143000
DTEND;TZID=UTC:20240203T190000
DTSTAMP:20260424T080453
CREATED:20240118T095733Z
LAST-MODIFIED:20240118T101152Z
UID:6296-1706970600-1706986800@www.bagard.fr
SUMMARY:Loto éternel printemps
DESCRIPTION:
URL:https://www.bagard.fr/evenement/loto-eternel-printemps-3/
CATEGORIES:Chez nous
ATTACH;FMTTYPE=image/jpeg:https://www.bagard.fr/wp-content/uploads/2022/10/Loto-image-evenement-scaled.jpeg
END:VEVENT
BEGIN:VEVENT
DTSTART;TZID=UTC:20240204T143000
DTEND;TZID=UTC:20240204T190000
DTSTAMP:20260424T080453
CREATED:20240118T101252Z
LAST-MODIFIED:20240126T073356Z
UID:6299-1707057000-1707073200@www.bagard.fr
SUMMARY:Loto de l'APE
DESCRIPTION:
URL:https://www.bagard.fr/evenement/loto-de-lape/
CATEGORIES:Chez nous
ATTACH;FMTTYPE=image/jpeg:https://www.bagard.fr/wp-content/uploads/2022/10/Loto-image-evenement-scaled.jpeg
END:VEVENT
BEGIN:VEVENT
DTSTART;TZID=UTC:20240208T133000
DTEND;TZID=UTC:20240208T170000
DTSTAMP:20260424T080453
CREATED:20240206T164041Z
LAST-MODIFIED:20240206T164041Z
UID:6324-1707399000-1707411600@www.bagard.fr
SUMMARY:atelier numérique
DESCRIPTION:
URL:https://www.bagard.fr/evenement/atelier-numerique/
CATEGORIES:Chez nous
ATTACH;FMTTYPE=image/png:https://www.bagard.fr/wp-content/uploads/2022/06/espace-numerique-public.png
END:VEVENT
BEGIN:VEVENT
DTSTART;TZID=UTC:20240223T180000
DTEND;TZID=UTC:20240223T200000
DTSTAMP:20260424T080453
CREATED:20240220T164809Z
LAST-MODIFIED:20240220T164809Z
UID:6384-1708711200-1708718400@www.bagard.fr
SUMMARY:Club de Lecture
DESCRIPTION:Club de lecture :\nBibliothèque de Bagard : 18h00 \nVendredi 23 Février. \nGratuit – venez parler de vos dernières lectures autour d’un apéro partagé. \nRenseignements : 04 66 60 58 91 ou en bibliothèque directement.
URL:https://www.bagard.fr/evenement/club-de-lecture/
CATEGORIES:Chez nous
ATTACH;FMTTYPE=image/jpeg:https://www.bagard.fr/wp-content/uploads/2021/09/livres-1.jpg
END:VEVENT
BEGIN:VEVENT
DTSTART;TZID=UTC:20240225T143000
DTEND;TZID=UTC:20240225T190000
DTSTAMP:20260424T080453
CREATED:20240130T162144Z
LAST-MODIFIED:20240209T074323Z
UID:6317-1708871400-1708887600@www.bagard.fr
SUMMARY:LOTO Club Amitié & Loisirs
DESCRIPTION:
URL:https://www.bagard.fr/evenement/loto-club-amitie-loisirs/
CATEGORIES:Chez nous
ATTACH;FMTTYPE=image/jpeg:https://www.bagard.fr/wp-content/uploads/2022/10/Loto-image-evenement-scaled.jpeg
END:VEVENT
END:VCALENDAR