BEGIN:VCALENDAR
VERSION:2.0
PRODID:-//Bagard - ECPv5.14.2.1//NONSGML v1.0//EN
CALSCALE:GREGORIAN
METHOD:PUBLISH
X-WR-CALNAME:Bagard
X-ORIGINAL-URL:https://www.bagard.fr
X-WR-CALDESC:Events for Bagard
REFRESH-INTERVAL;VALUE=DURATION:PT1H
X-Robots-Tag:noindex
X-PUBLISHED-TTL:PT1H
BEGIN:VTIMEZONE
TZID:UTC
BEGIN:STANDARD
TZOFFSETFROM:+0000
TZOFFSETTO:+0000
TZNAME:UTC
DTSTART:20240101T000000
END:STANDARD
END:VTIMEZONE
BEGIN:VEVENT
DTSTART;TZID=UTC:20240601T100000
DTEND;TZID=UTC:20240601T180000
DTSTAMP:20260424T013920
CREATED:20240425T084255Z
LAST-MODIFIED:20240425T084502Z
UID:6572-1717236000-1717264800@www.bagard.fr
SUMMARY:Bag'Art
DESCRIPTION:
URL:https://www.bagard.fr/evenement/bagardart/
CATEGORIES:Chez nous
ATTACH;FMTTYPE=image/jpeg:https://www.bagard.fr/wp-content/uploads/2024/04/Bagart-affiche-2024.jpg
END:VEVENT
BEGIN:VEVENT
DTSTART;TZID=UTC:20240604T183000
DTEND;TZID=UTC:20240604T200000
DTSTAMP:20260424T013920
CREATED:20240514T061726Z
LAST-MODIFIED:20240514T061726Z
UID:6608-1717525800-1717531200@www.bagard.fr
SUMMARY:Accordéon sans frontières
DESCRIPTION:
URL:https://www.bagard.fr/evenement/accordeon-sans-frontieres/
CATEGORIES:Chez nous
ATTACH;FMTTYPE=image/jpeg:https://www.bagard.fr/wp-content/uploads/2024/05/affiche-concert-2024-4-juin.jpg
END:VEVENT
BEGIN:VEVENT
DTSTART;TZID=UTC:20240607T180000
DTEND;TZID=UTC:20240607T200000
DTSTAMP:20260424T013920
CREATED:20240517T073347Z
LAST-MODIFIED:20240517T073347Z
UID:6623-1717783200-1717790400@www.bagard.fr
SUMMARY:Soirée jeux à la Bibliothèque
DESCRIPTION:
URL:https://www.bagard.fr/evenement/soiree-jeux-a-la-bibliotheque-2/
CATEGORIES:Chez nous
ATTACH;FMTTYPE=image/png:https://www.bagard.fr/wp-content/uploads/2024/05/Soiree-jeux-affiche-1.png
END:VEVENT
BEGIN:VEVENT
DTSTART;TZID=UTC:20240608T180000
DTEND;TZID=UTC:20240608T230000
DTSTAMP:20260424T013920
CREATED:20240425T065706Z
LAST-MODIFIED:20240425T065706Z
UID:6564-1717869600-1717887600@www.bagard.fr
SUMMARY:Cascad'arch
DESCRIPTION:
URL:https://www.bagard.fr/evenement/cascadarch-2/
CATEGORIES:Chez nous
ATTACH;FMTTYPE=image/jpeg:https://www.bagard.fr/wp-content/uploads/2024/04/cascadarch-2024.jpg
END:VEVENT
BEGIN:VEVENT
DTSTART;TZID=UTC:20240622T190000
DTEND;TZID=UTC:20240622T233000
DTSTAMP:20260424T013920
CREATED:20240418T093841Z
LAST-MODIFIED:20240517T062642Z
UID:6544-1719082800-1719099000@www.bagard.fr
SUMMARY:Fête de la musique
DESCRIPTION:
URL:https://www.bagard.fr/evenement/fete-de-la-musique-2/
CATEGORIES:Chez nous
ATTACH;FMTTYPE=image/png:https://www.bagard.fr/wp-content/uploads/2022/05/marie-de-bagard-fete-de-la-musique.png
END:VEVENT
END:VCALENDAR