BEGIN:VCALENDAR
VERSION:2.0
PRODID:-//Bagard - ECPv5.14.2.1//NONSGML v1.0//EN
CALSCALE:GREGORIAN
METHOD:PUBLISH
X-WR-CALNAME:Bagard
X-ORIGINAL-URL:https://www.bagard.fr
X-WR-CALDESC:Events for Bagard
REFRESH-INTERVAL;VALUE=DURATION:PT1H
X-Robots-Tag:noindex
X-PUBLISHED-TTL:PT1H
BEGIN:VTIMEZONE
TZID:UTC
BEGIN:STANDARD
TZOFFSETFROM:+0000
TZOFFSETTO:+0000
TZNAME:UTC
DTSTART:20240101T000000
END:STANDARD
END:VTIMEZONE
BEGIN:VEVENT
DTSTART;TZID=UTC:20240907T133000
DTEND;TZID=UTC:20240907T180000
DTSTAMP:20260423T204946
CREATED:20240711T135703Z
LAST-MODIFIED:20240711T151117Z
UID:6751-1725715800-1725732000@www.bagard.fr
SUMMARY:Fête des associations
DESCRIPTION:
URL:https://www.bagard.fr/evenement/fete-des-associations-2/
CATEGORIES:Chez nous
ATTACH;FMTTYPE=image/png:https://www.bagard.fr/wp-content/uploads/2022/09/layer-association.png
END:VEVENT
BEGIN:VEVENT
DTSTART;TZID=UTC:20240914T180000
DTEND;TZID=UTC:20240914T230000
DTSTAMP:20260423T204946
CREATED:20240730T061450Z
LAST-MODIFIED:20240730T061450Z
UID:6760-1726336800-1726354800@www.bagard.fr
SUMMARY:Moteurs & Pélardons : Le revivre
DESCRIPTION:
URL:https://www.bagard.fr/evenement/moteurs-pelardons-le-revivre/
CATEGORIES:Chez nous
ATTACH;FMTTYPE=image/jpeg:https://www.bagard.fr/wp-content/uploads/2024/07/moteur-et-pelardons-revivre-2024.jpg
END:VEVENT
BEGIN:VEVENT
DTSTART;TZID=UTC:20240929T120000
DTEND;TZID=UTC:20240929T130000
DTSTAMP:20260423T204946
CREATED:20240712T123718Z
LAST-MODIFIED:20240924T064159Z
UID:6754-1727611200-1727614800@www.bagard.fr
SUMMARY:Immersion
DESCRIPTION: 
URL:https://www.bagard.fr/evenement/immersion/
CATEGORIES:Chez nous
ATTACH;FMTTYPE=image/jpeg:https://www.bagard.fr/wp-content/uploads/2024/07/En-immersion-affiche-scaled.jpg
END:VEVENT
BEGIN:VEVENT
DTSTART;TZID=UTC:20240929T150000
DTEND;TZID=UTC:20240929T170000
DTSTAMP:20260423T204946
CREATED:20240910T064752Z
LAST-MODIFIED:20240910T064752Z
UID:6810-1727622000-1727629200@www.bagard.fr
SUMMARY:Chasse au trésor
DESCRIPTION:
URL:https://www.bagard.fr/evenement/chasse-au-tresor/
CATEGORIES:Chez nous
ATTACH;FMTTYPE=image/jpeg:https://www.bagard.fr/wp-content/uploads/2022/07/chasses-au-tresor-carte.jpg
END:VEVENT
BEGIN:VEVENT
DTSTART;TZID=UTC:20240930T140000
DTEND;TZID=UTC:20241005T170000
DTSTAMP:20260423T204946
CREATED:20240920T092218Z
LAST-MODIFIED:20240920T093908Z
UID:6865-1727704800-1728147600@www.bagard.fr
SUMMARY:Semaine Bleu
DESCRIPTION:
URL:https://www.bagard.fr/evenement/semaine-bleu/
CATEGORIES:Chez nous
ATTACH;FMTTYPE=image/jpeg:https://www.bagard.fr/wp-content/uploads/2022/09/semaineBleue-baniere.jpg
END:VEVENT
END:VCALENDAR