BEGIN:VCALENDAR
VERSION:2.0
PRODID:-//Bagard - ECPv5.14.2.1//NONSGML v1.0//EN
CALSCALE:GREGORIAN
METHOD:PUBLISH
X-WR-CALNAME:Bagard
X-ORIGINAL-URL:https://www.bagard.fr
X-WR-CALDESC:Events for Bagard
REFRESH-INTERVAL;VALUE=DURATION:PT1H
X-Robots-Tag:noindex
X-PUBLISHED-TTL:PT1H
BEGIN:VTIMEZONE
TZID:UTC
BEGIN:STANDARD
TZOFFSETFROM:+0000
TZOFFSETTO:+0000
TZNAME:UTC
DTSTART:20240101T000000
END:STANDARD
END:VTIMEZONE
BEGIN:VEVENT
DTSTART;TZID=UTC:20241122T090000
DTEND;TZID=UTC:20241122T133000
DTSTAMP:20260423T175048
CREATED:20241121T075759Z
LAST-MODIFIED:20241121T075759Z
UID:7284-1732266000-1732282200@www.bagard.fr
SUMMARY:Collecte de Sang
DESCRIPTION:Don du sang\n  \nVendredi 22 Novembre \nFoyer de Bagard \n9h00 à 13h30 \nNe pas venir à jeun – Pensez à votre pièce d’identité
URL:https://www.bagard.fr/evenement/collecte-de-sang/
CATEGORIES:Chez nous
ATTACH;FMTTYPE=image/jpeg:https://www.bagard.fr/wp-content/uploads/2021/09/dondesang.jpg
END:VEVENT
BEGIN:VEVENT
DTSTART;TZID=UTC:20241123T140000
DTEND;TZID=UTC:20241123T180000
DTSTAMP:20260423T175048
CREATED:20241015T064627Z
LAST-MODIFIED:20241015T064627Z
UID:7204-1732370400-1732384800@www.bagard.fr
SUMMARY:Un après-midi à Poudlard
DESCRIPTION:
URL:https://www.bagard.fr/evenement/un-apres-midi-a-poudlard/
LOCATION:bibliothèque
CATEGORIES:Chez nous
ATTACH;FMTTYPE=image/png:https://www.bagard.fr/wp-content/uploads/2024/10/Affiche-Harry-Potter-Bib.png
END:VEVENT
END:VCALENDAR