BEGIN:VCALENDAR
VERSION:2.0
PRODID:-//Bagard - ECPv5.14.2.1//NONSGML v1.0//EN
CALSCALE:GREGORIAN
METHOD:PUBLISH
X-WR-CALNAME:Bagard
X-ORIGINAL-URL:https://www.bagard.fr
X-WR-CALDESC:Events for Bagard
REFRESH-INTERVAL;VALUE=DURATION:PT1H
X-Robots-Tag:noindex
X-PUBLISHED-TTL:PT1H
BEGIN:VTIMEZONE
TZID:UTC
BEGIN:STANDARD
TZOFFSETFROM:+0000
TZOFFSETTO:+0000
TZNAME:UTC
DTSTART:20240101T000000
END:STANDARD
END:VTIMEZONE
BEGIN:VEVENT
DTSTART;TZID=UTC:20240529T080000
DTEND;TZID=UTC:20240529T130000
DTSTAMP:20260424T031820
CREATED:20230511T081949Z
LAST-MODIFIED:20250923T145917Z
UID:5425-1716969600-1716987600@www.bagard.fr
SUMMARY:Marché
DESCRIPTION:Marché sur la Commune :\nLe marché se tiendra tous les mercredi sur la place de la mairie de 8h00 à 13h00. \nRetrouvez : Vêtements\, charcuterie\, fromages\, café\, poissons\, fruits & légumes\, rémouleur et bien d’autres encore ….
URL:https://www.bagard.fr/evenement/marche-paysan/
CATEGORIES:Chez nous
ATTACH;FMTTYPE=image/jpeg:https://www.bagard.fr/wp-content/uploads/2023/05/jour_de_marche.jpg
END:VEVENT
END:VCALENDAR