BEGIN:VCALENDAR
VERSION:2.0
PRODID:-//Bagard - ECPv5.14.2.1//NONSGML v1.0//EN
CALSCALE:GREGORIAN
METHOD:PUBLISH
X-WR-CALNAME:Bagard
X-ORIGINAL-URL:https://www.bagard.fr
X-WR-CALDESC:Events for Bagard
REFRESH-INTERVAL;VALUE=DURATION:PT1H
X-Robots-Tag:noindex
X-PUBLISHED-TTL:PT1H
BEGIN:VTIMEZONE
TZID:UTC
BEGIN:STANDARD
TZOFFSETFROM:+0000
TZOFFSETTO:+0000
TZNAME:UTC
DTSTART:20240101T000000
END:STANDARD
END:VTIMEZONE
BEGIN:VEVENT
DTSTART;TZID=UTC:20241206T180000
DTEND;TZID=UTC:20241206T200000
DTSTAMP:20260423T174206
CREATED:20241128T074823Z
LAST-MODIFIED:20241128T074842Z
UID:7297-1733508000-1733515200@www.bagard.fr
SUMMARY:Soirée jeux bibliothèque
DESCRIPTION:
URL:https://www.bagard.fr/evenement/soiree-jeux-bibliotheque-2/
CATEGORIES:Chez nous
ATTACH;FMTTYPE=image/jpeg:https://www.bagard.fr/wp-content/uploads/2024/11/jeux-de-societes.jpg
END:VEVENT
END:VCALENDAR