BEGIN:VCALENDAR
VERSION:2.0
PRODID:-//Bagard - ECPv5.14.2.1//NONSGML v1.0//EN
CALSCALE:GREGORIAN
METHOD:PUBLISH
X-WR-CALNAME:Bagard
X-ORIGINAL-URL:https://www.bagard.fr
X-WR-CALDESC:Events for Bagard
REFRESH-INTERVAL;VALUE=DURATION:PT1H
X-Robots-Tag:noindex
X-PUBLISHED-TTL:PT1H
BEGIN:VTIMEZONE
TZID:UTC
BEGIN:STANDARD
TZOFFSETFROM:+0000
TZOFFSETTO:+0000
TZNAME:UTC
DTSTART:20240101T000000
END:STANDARD
END:VTIMEZONE
BEGIN:VEVENT
DTSTART;TZID=UTC:20241208T140000
DTEND;TZID=UTC:20241208T190000
DTSTAMP:20260423T184011
CREATED:20241121T080119Z
LAST-MODIFIED:20241121T080119Z
UID:7286-1733666400-1733684400@www.bagard.fr
SUMMARY:Loto alimentaire éternel printemps
DESCRIPTION:Loto alimentaire Eternel printemps\nDimanche 08 décembre 2024 \nouverture des portes à 14 heures \ndébut du loto à 15 heures \n10 € les 6 cartons \npièce d’identité exigée pour règlement par chèque
URL:https://www.bagard.fr/evenement/loto-alimentaire-eternel-printemps-2/
CATEGORIES:Chez nous
ATTACH;FMTTYPE=image/jpeg:https://www.bagard.fr/wp-content/uploads/2022/10/Loto-image-evenement-scaled.jpeg
END:VEVENT
END:VCALENDAR