BEGIN:VCALENDAR
VERSION:2.0
PRODID:-//Bagard - ECPv5.14.2.1//NONSGML v1.0//EN
CALSCALE:GREGORIAN
METHOD:PUBLISH
X-WR-CALNAME:Bagard
X-ORIGINAL-URL:https://www.bagard.fr
X-WR-CALDESC:Events for Bagard
REFRESH-INTERVAL;VALUE=DURATION:PT1H
X-Robots-Tag:noindex
X-PUBLISHED-TTL:PT1H
BEGIN:VTIMEZONE
TZID:UTC
BEGIN:STANDARD
TZOFFSETFROM:+0000
TZOFFSETTO:+0000
TZNAME:UTC
DTSTART:20240101T000000
END:STANDARD
END:VTIMEZONE
BEGIN:VEVENT
DTSTART;TZID=UTC:20241213T203000
DTEND;TZID=UTC:20241213T233000
DTSTAMP:20260423T175530
CREATED:20241126T160750Z
LAST-MODIFIED:20241126T161425Z
UID:7292-1734121800-1734132600@www.bagard.fr
SUMMARY:Concert Gospel au temple
DESCRIPTION:
URL:https://www.bagard.fr/evenement/concert-gospel-au-temple/
CATEGORIES:Chez nous
ATTACH;FMTTYPE=image/jpeg:https://www.bagard.fr/wp-content/uploads/2021/06/concert-choral.jpg
END:VEVENT
END:VCALENDAR